Package: midasHLA Version: 1.15.0 Command: /home/biocbuild/bbs-3.21-bioc/R/bin/R CMD INSTALL midasHLA StartedAt: 2025-02-03 15:30:22 -0500 (Mon, 03 Feb 2025) EndedAt: 2025-02-03 15:30:53 -0500 (Mon, 03 Feb 2025) EllapsedTime: 31.2 seconds RetCode: 0 Status: OK