Package: midasHLA Version: 1.15.0 Command: /Library/Frameworks/R.framework/Resources/bin/R CMD check --install=check:midasHLA.install-out.txt --library=/Library/Frameworks/R.framework/Resources/library --no-vignettes --timings midasHLA_1.15.0.tar.gz StartedAt: 2025-02-05 21:39:22 -0500 (Wed, 05 Feb 2025) EndedAt: 2025-02-05 21:44:56 -0500 (Wed, 05 Feb 2025) EllapsedTime: 333.9 seconds RetCode: 0 Status: WARNINGS CheckDir: midasHLA.Rcheck Warnings: 1