Package: midasHLA Version: 1.15.0 Command: /Library/Frameworks/R.framework/Resources/bin/R CMD INSTALL midasHLA StartedAt: 2025-02-03 15:56:51 -0500 (Mon, 03 Feb 2025) EndedAt: 2025-02-03 15:57:03 -0500 (Mon, 03 Feb 2025) EllapsedTime: 12.5 seconds RetCode: 0 Status: OK