Package: microbiomeMarker Version: 1.11.1 Command: /home/biocbuild/bbs-3.21-bioc/R/bin/R CMD build --keep-empty-dirs --no-resave-data microbiomeMarker StartedAt: 2024-10-24 04:55:14 -0400 (Thu, 24 Oct 2024) EndedAt: 2024-10-24 04:56:45 -0400 (Thu, 24 Oct 2024) EllapsedTime: 91.1 seconds RetCode: 1 Status: ERROR PackageFile: None PackageFileSize: NA