Package: microbiomeMarker Version: 1.11.1 Maintainer: Yang Cao MaintainerEmail: caoyang.name at gmail.com git_url: https://git.bioconductor.org/packages/microbiomeMarker git_branch: devel git_last_commit: aee056c git_last_commit_date: 2024-08-21 14:56:00 -0400 (Wed, 21 Aug 2024)