Package: microbiomeDASim Version: 1.21.0 Command: /home/biocbuild/bbs-3.21-bioc/R/bin/R CMD INSTALL microbiomeDASim StartedAt: 2025-02-18 15:15:53 -0500 (Tue, 18 Feb 2025) EndedAt: 2025-02-18 15:16:12 -0500 (Tue, 18 Feb 2025) EllapsedTime: 19.3 seconds RetCode: 0 Status: OK