Package: microbiome Version: 1.31.4 Command: /home/biocbuild/bbs-3.22-bioc/R/bin/R CMD INSTALL microbiome StartedAt: 2025-10-27 15:20:18 -0400 (Mon, 27 Oct 2025) EndedAt: 2025-10-27 15:20:41 -0400 (Mon, 27 Oct 2025) EllapsedTime: 22.8 seconds RetCode: 0 Status: OK