Package: microSTASIS Version: 1.7.0 Command: rm -rf microSTASIS.buildbin-libdir && mkdir microSTASIS.buildbin-libdir && /Users/biocbuild/BBS/utils/build-universal.sh microSTASIS_1.7.0.tar.gz /Library/Frameworks/R.framework/Resources/bin/R microSTASIS.buildbin-libdir StartedAt: 2025-01-10 22:26:09 -0500 (Fri, 10 Jan 2025) EndedAt: 2025-01-10 22:26:11 -0500 (Fri, 10 Jan 2025) EllapsedTime: 2.1 seconds RetCode: 0 Status: OK PackageFile: microSTASIS_1.7.0.tgz PackageFileSize: 1.465 MiB