Package: microRNA Version: 1.65.0 Command: /Library/Frameworks/R.framework/Resources/bin/R CMD INSTALL microRNA StartedAt: 2025-02-02 15:10:59 -0500 (Sun, 02 Feb 2025) EndedAt: 2025-02-02 15:11:05 -0500 (Sun, 02 Feb 2025) EllapsedTime: 5.2 seconds RetCode: 1 Status: ERROR