Package: microRNA Version: 1.67.0 Command: /Library/Frameworks/R.framework/Resources/bin/R CMD check --install=check:microRNA.install-out.txt --library=/Library/Frameworks/R.framework/Resources/library --no-vignettes --timings microRNA_1.67.0.tar.gz StartedAt: 2025-04-28 21:38:00 -0400 (Mon, 28 Apr 2025) EndedAt: 2025-04-28 21:39:33 -0400 (Mon, 28 Apr 2025) EllapsedTime: 92.5 seconds RetCode: 0 Status: OK CheckDir: microRNA.Rcheck Warnings: 0