Package: microRNA Version: 1.67.0 Command: /Library/Frameworks/R.framework/Resources/bin/R CMD build --keep-empty-dirs --no-resave-data microRNA StartedAt: 2025-04-28 17:24:32 -0400 (Mon, 28 Apr 2025) EndedAt: 2025-04-28 17:24:36 -0400 (Mon, 28 Apr 2025) EllapsedTime: 4.6 seconds RetCode: 0 Status: OK PackageFile: microRNA_1.67.0.tar.gz PackageFileSize: 5.743 MiB