Package: microRNA Version: 1.67.0 Command: /Library/Frameworks/R.framework/Resources/bin/R CMD INSTALL microRNA StartedAt: 2025-05-08 15:07:41 -0400 (Thu, 08 May 2025) EndedAt: 2025-05-08 15:07:47 -0400 (Thu, 08 May 2025) EllapsedTime: 5.8 seconds RetCode: 0 Status: OK