Package: microRNA Version: 1.67.0 Command: /Library/Frameworks/R.framework/Resources/bin/R CMD build --keep-empty-dirs --no-resave-data microRNA StartedAt: 2025-05-09 17:02:15 -0400 (Fri, 09 May 2025) EndedAt: 2025-05-09 17:02:17 -0400 (Fri, 09 May 2025) EllapsedTime: 2.0 seconds RetCode: 0 Status: OK PackageFile: microRNA_1.67.0.tar.gz PackageFileSize: 5.743 MiB