Package: microRNA Version: 1.67.0 Command: rm -rf microRNA.buildbin-libdir && mkdir microRNA.buildbin-libdir && /Users/biocbuild/BBS/utils/build-universal.sh microRNA_1.67.0.tar.gz /Library/Frameworks/R.framework/Resources/bin/R microRNA.buildbin-libdir StartedAt: 2025-05-09 22:47:34 -0400 (Fri, 09 May 2025) EndedAt: 2025-05-09 22:47:40 -0400 (Fri, 09 May 2025) EllapsedTime: 6.1 seconds RetCode: 0 Status: OK PackageFile: microRNA_1.67.0.tgz PackageFileSize: 5.778 MiB