Package: miaViz Version: 1.17.9 Command: F:\biocbuild\bbs-3.22-bioc\R\bin\R.exe CMD INSTALL miaViz StartedAt: 2025-08-14 17:01:57 -0400 (Thu, 14 Aug 2025) EndedAt: 2025-08-14 17:03:15 -0400 (Thu, 14 Aug 2025) EllapsedTime: 78.4 seconds RetCode: 0 Status: OK