Package: miaViz Version: 1.17.9 Command: chmod a+r miaViz -R && F:\biocbuild\bbs-3.22-bioc\R\bin\R.exe CMD build --keep-empty-dirs --no-resave-data miaViz StartedAt: 2025-08-14 21:27:18 -0400 (Thu, 14 Aug 2025) EndedAt: 2025-08-14 21:30:01 -0400 (Thu, 14 Aug 2025) EllapsedTime: 163.9 seconds RetCode: 0 Status: OK PackageFile: miaViz_1.17.9.tar.gz PackageFileSize: 2.447 MiB