Package: miaViz Version: 1.15.6 Command: E:\biocbuild\bbs-3.21-bioc\R\bin\R.exe CMD INSTALL miaViz StartedAt: 2025-02-03 16:39:52 -0500 (Mon, 03 Feb 2025) EndedAt: 2025-02-03 16:41:06 -0500 (Mon, 03 Feb 2025) EllapsedTime: 73.3 seconds RetCode: 0 Status: OK