Package: miaViz Version: 1.15.6 Command: chmod a+r miaViz -R && E:\biocbuild\bbs-3.21-bioc\R\bin\R.exe CMD build --keep-empty-dirs --no-resave-data miaViz StartedAt: 2025-02-05 19:58:56 -0500 (Wed, 05 Feb 2025) EndedAt: 2025-02-05 20:01:39 -0500 (Wed, 05 Feb 2025) EllapsedTime: 162.7 seconds RetCode: 0 Status: OK PackageFile: miaViz_1.15.6.tar.gz PackageFileSize: 2.492 MiB