Package: miaViz Version: 1.15.6 Command: rm -rf miaViz.buildbin-libdir && mkdir miaViz.buildbin-libdir && E:\biocbuild\bbs-3.21-bioc\R\bin\R.exe CMD INSTALL --build --library=miaViz.buildbin-libdir miaViz_1.15.6.tar.gz StartedAt: 2025-02-04 08:21:43 -0500 (Tue, 04 Feb 2025) EndedAt: 2025-02-04 08:23:04 -0500 (Tue, 04 Feb 2025) EllapsedTime: 81.0 seconds RetCode: 0 Status: OK PackageFile: miaViz_1.15.6.zip PackageFileSize: 2.75 MiB