Package: miaViz Version: 1.15.6 Command: /home/biocbuild/bbs-3.21-bioc/R/bin/R CMD INSTALL miaViz StartedAt: 2025-02-03 16:03:43 -0500 (Mon, 03 Feb 2025) EndedAt: 2025-02-03 16:04:28 -0500 (Mon, 03 Feb 2025) EllapsedTime: 44.7 seconds RetCode: 0 Status: OK