Package: miaViz Version: 1.15.6 Command: /Library/Frameworks/R.framework/Resources/bin/R CMD INSTALL miaViz StartedAt: 2025-02-03 15:45:11 -0500 (Mon, 03 Feb 2025) EndedAt: 2025-02-03 15:46:10 -0500 (Mon, 03 Feb 2025) EllapsedTime: 58.6 seconds RetCode: 0 Status: OK