Package: miaViz Version: 1.15.6 Command: /Library/Frameworks/R.framework/Resources/bin/R CMD build --keep-empty-dirs --no-resave-data miaViz StartedAt: 2025-02-03 17:32:16 -0500 (Mon, 03 Feb 2025) EndedAt: 2025-02-03 17:33:08 -0500 (Mon, 03 Feb 2025) EllapsedTime: 51.6 seconds RetCode: 0 Status: OK PackageFile: miaViz_1.15.6.tar.gz PackageFileSize: 2.532 MiB