Package: miaViz Version: 1.15.6 Maintainer: Tuomas Borman MaintainerEmail: tuomas.v.borman at utu.fi git_url: https://git.bioconductor.org/packages/miaViz git_branch: devel git_last_commit: 9e98d3b git_last_commit_date: 2025-01-30 12:56:52 -0500 (Thu, 30 Jan 2025)