Package: miaTime Version: 0.99.9 Command: /home/biocbuild/bbs-3.22-bioc/R/bin/R CMD INSTALL miaTime StartedAt: 2025-10-08 16:16:43 -0400 (Wed, 08 Oct 2025) EndedAt: 2025-10-08 16:17:42 -0400 (Wed, 08 Oct 2025) EllapsedTime: 58.3 seconds RetCode: 0 Status: OK