Package: miaTime Version: 0.99.9 Command: /home/biocbuild/bbs-3.22-bioc/R/bin/R CMD build --keep-empty-dirs --no-resave-data --md5 miaTime StartedAt: 2025-10-08 19:03:24 -0400 (Wed, 08 Oct 2025) EndedAt: 2025-10-08 19:04:28 -0400 (Wed, 08 Oct 2025) EllapsedTime: 64.1 seconds RetCode: 0 Status: OK PackageFile: miaTime_0.99.9.tar.gz PackageFileSize: 927.6 KiB