Package: miaTime Version: 1.1.0 Command: /Library/Frameworks/R.framework/Resources/bin/R CMD INSTALL miaTime StartedAt: 2025-11-13 15:32:36 -0500 (Thu, 13 Nov 2025) EndedAt: 2025-11-13 15:32:54 -0500 (Thu, 13 Nov 2025) EllapsedTime: 17.6 seconds RetCode: 0 Status: OK