Package: miaTime Version: 1.1.0 Command: /Library/Frameworks/R.framework/Resources/bin/R CMD build --keep-empty-dirs --no-resave-data miaTime StartedAt: 2025-11-12 16:42:23 -0500 (Wed, 12 Nov 2025) EndedAt: 2025-11-12 16:42:53 -0500 (Wed, 12 Nov 2025) EllapsedTime: 29.4 seconds RetCode: 0 Status: OK PackageFile: miaTime_1.1.0.tar.gz PackageFileSize: 6.357 MiB