Package: miaTime Version: 1.1.0 Command: rm -rf miaTime.buildbin-libdir && mkdir miaTime.buildbin-libdir && /Users/biocbuild/BBS/utils/build-universal.sh miaTime_1.1.0.tar.gz /Library/Frameworks/R.framework/Resources/bin/R miaTime.buildbin-libdir StartedAt: 2025-11-12 21:02:45 -0500 (Wed, 12 Nov 2025) EndedAt: 2025-11-12 21:03:06 -0500 (Wed, 12 Nov 2025) EllapsedTime: 20.4 seconds RetCode: 0 Status: OK PackageFile: miaTime_1.1.0.tgz PackageFileSize: 6.432 MiB