Package: miaSim Version: 1.15.1 Command: chmod a+r miaSim -R && F:\biocbuild\bbs-3.22-bioc\R\bin\R.exe CMD build --keep-empty-dirs --no-resave-data miaSim StartedAt: 2025-08-14 21:27:16 -0400 (Thu, 14 Aug 2025) EndedAt: 2025-08-14 21:28:44 -0400 (Thu, 14 Aug 2025) EllapsedTime: 87.1 seconds RetCode: 0 Status: OK PackageFile: miaSim_1.15.1.tar.gz PackageFileSize: 392.6 KiB