Package: miaSim Version: 1.15.1 Command: /home/biocbuild/bbs-3.22-bioc/R/bin/R CMD INSTALL miaSim StartedAt: 2025-10-08 15:42:39 -0400 (Wed, 08 Oct 2025) EndedAt: 2025-10-08 15:43:09 -0400 (Wed, 08 Oct 2025) EllapsedTime: 30.7 seconds RetCode: 0 Status: OK