Package: miaSim Version: 1.15.1 Command: /home/biocbuild/bbs-3.22-bioc/R/bin/R CMD build --keep-empty-dirs --no-resave-data --md5 miaSim StartedAt: 2025-10-08 19:03:21 -0400 (Wed, 08 Oct 2025) EndedAt: 2025-10-08 19:04:09 -0400 (Wed, 08 Oct 2025) EllapsedTime: 48.0 seconds RetCode: 0 Status: OK PackageFile: miaSim_1.15.1.tar.gz PackageFileSize: 395 KiB