Package: miaDash Version: 1.1.5 Command: /home/biocbuild/bbs-3.22-bioc/R/bin/R CMD INSTALL miaDash StartedAt: 2025-10-17 15:57:27 -0400 (Fri, 17 Oct 2025) EndedAt: 2025-10-17 15:58:11 -0400 (Fri, 17 Oct 2025) EllapsedTime: 44.5 seconds RetCode: 0 Status: OK