Package: miaDash Version: 1.1.5 Command: /home/biocbuild/bbs-3.22-bioc/R/bin/R CMD build --keep-empty-dirs --no-resave-data --md5 miaDash StartedAt: 2025-10-19 18:39:51 -0400 (Sun, 19 Oct 2025) EndedAt: 2025-10-19 18:40:53 -0400 (Sun, 19 Oct 2025) EllapsedTime: 62.0 seconds RetCode: 0 Status: OK PackageFile: miaDash_1.1.5.tar.gz PackageFileSize: 2.064 MiB