Package: miRspongeR Version: 2.11.0 Command: /Library/Frameworks/R.framework/Resources/bin/R CMD check --install=check:miRspongeR.install-out.txt --library=/Library/Frameworks/R.framework/Resources/library --no-vignettes --timings miRspongeR_2.11.0.tar.gz StartedAt: 2025-02-03 21:44:47 -0500 (Mon, 03 Feb 2025) EndedAt: 2025-02-03 21:50:24 -0500 (Mon, 03 Feb 2025) EllapsedTime: 337.4 seconds RetCode: 0 Status: OK CheckDir: miRspongeR.Rcheck Warnings: 0