Package: miRspongeR Version: 2.11.0 Command: /Library/Frameworks/R.framework/Resources/bin/R CMD INSTALL miRspongeR StartedAt: 2025-02-03 16:04:42 -0500 (Mon, 03 Feb 2025) EndedAt: 2025-02-03 16:04:54 -0500 (Mon, 03 Feb 2025) EllapsedTime: 11.1 seconds RetCode: 0 Status: OK