Package: miRcomp Version: 1.39.1 Command: chmod a+r miRcomp -R && F:\biocbuild\bbs-3.22-bioc\R\bin\R.exe CMD build --keep-empty-dirs --no-resave-data miRcomp StartedAt: 2025-08-14 21:30:45 -0400 (Thu, 14 Aug 2025) EndedAt: 2025-08-14 21:31:33 -0400 (Thu, 14 Aug 2025) EllapsedTime: 48.2 seconds RetCode: 0 Status: OK PackageFile: miRcomp_1.39.1.tar.gz PackageFileSize: 2.291 MiB