Package: miRcomp Version: 1.39.1 Command: /home/biocbuild/bbs-3.22-bioc/R/bin/R CMD INSTALL miRcomp StartedAt: 2025-10-06 15:12:00 -0400 (Mon, 06 Oct 2025) EndedAt: 2025-10-06 15:12:04 -0400 (Mon, 06 Oct 2025) EllapsedTime: 3.7 seconds RetCode: 0 Status: OK