Package: miRSM Version: 2.5.4 Command: /home/biocbuild/R/R/bin/R CMD build --keep-empty-dirs --no-resave-data miRSM StartedAt: 2025-10-03 01:24:56 -0000 (Fri, 03 Oct 2025) EndedAt: 2025-10-03 01:27:24 -0000 (Fri, 03 Oct 2025) EllapsedTime: 148.0 seconds RetCode: 0 Status: OK PackageFile: miRSM_2.5.4.tar.gz PackageFileSize: 4.905 MiB