Package: miRSM Version: 2.5.4 Command: rm -rf miRSM.buildbin-libdir && mkdir miRSM.buildbin-libdir && /Users/biocbuild/BBS/utils/build-universal.sh miRSM_2.5.4.tar.gz /Library/Frameworks/R.framework/Resources/bin/R miRSM.buildbin-libdir StartedAt: 2025-10-12 22:44:20 -0400 (Sun, 12 Oct 2025) EndedAt: 2025-10-12 22:44:49 -0400 (Sun, 12 Oct 2025) EllapsedTime: 29.6 seconds RetCode: 0 Status: OK PackageFile: miRSM_2.5.4.tgz PackageFileSize: 5.148 MiB