Package: miRNAtap Version: 1.43.0 Command: chmod a+r miRNAtap -R && F:\biocbuild\bbs-3.22-bioc\R\bin\R.exe CMD build --keep-empty-dirs --no-resave-data miRNAtap StartedAt: 2025-08-14 21:31:46 -0400 (Thu, 14 Aug 2025) EndedAt: 2025-08-14 21:32:42 -0400 (Thu, 14 Aug 2025) EllapsedTime: 56.3 seconds RetCode: 0 Status: OK PackageFile: miRNAtap_1.43.0.tar.gz PackageFileSize: 101.5 KiB