Package: miRNApath Version: 1.69.0 Command: /home/biocbuild/bbs-3.22-bioc/R/bin/R CMD INSTALL miRNApath StartedAt: 2025-10-09 15:07:09 -0400 (Thu, 09 Oct 2025) EndedAt: 2025-10-09 15:07:27 -0400 (Thu, 09 Oct 2025) EllapsedTime: 18.7 seconds RetCode: 0 Status: OK