Package: miRNAmeConverter Version: 1.37.0 Command: /Library/Frameworks/R.framework/Resources/bin/R CMD build --keep-empty-dirs --no-resave-data miRNAmeConverter StartedAt: 2025-10-07 17:56:38 -0400 (Tue, 07 Oct 2025) EndedAt: 2025-10-07 17:56:42 -0400 (Tue, 07 Oct 2025) EllapsedTime: 3.5 seconds RetCode: 0 Status: OK PackageFile: miRNAmeConverter_1.37.0.tar.gz PackageFileSize: 313.7 KiB