Package: miRNAmeConverter Version: 1.35.0 Command: /home/biocbuild/R/R/bin/R CMD build --keep-empty-dirs --no-resave-data miRNAmeConverter StartedAt: 2025-01-29 00:23:37 -0000 (Wed, 29 Jan 2025) EndedAt: 2025-01-29 00:23:38 -0000 (Wed, 29 Jan 2025) EllapsedTime: 1.0 seconds RetCode: 0 Status: OK PackageFile: miRNAmeConverter_1.35.0.tar.gz PackageFileSize: 313.7 KiB