Package: miRNAmeConverter Version: 1.37.0 Command: /Library/Frameworks/R.framework/Resources/bin/R CMD build --keep-empty-dirs --no-resave-data miRNAmeConverter StartedAt: 2025-09-30 17:02:39 -0400 (Tue, 30 Sep 2025) EndedAt: 2025-09-30 17:02:40 -0400 (Tue, 30 Sep 2025) EllapsedTime: 1.0 seconds RetCode: 0 Status: OK PackageFile: miRNAmeConverter_1.37.0.tar.gz PackageFileSize: 313.7 KiB