Package: miRLAB Version: 1.39.0 Command: /home/biocbuild/bbs-3.22-bioc/R/bin/R CMD build --keep-empty-dirs --no-resave-data --md5 miRLAB StartedAt: 2025-10-24 18:52:36 -0400 (Fri, 24 Oct 2025) EndedAt: 2025-10-24 18:53:12 -0400 (Fri, 24 Oct 2025) EllapsedTime: 36.1 seconds RetCode: 0 Status: OK PackageFile: miRLAB_1.39.0.tar.gz PackageFileSize: 193.7 KiB