Package: miRLAB Version: 1.37.0 Command: /Library/Frameworks/R.framework/Resources/bin/R CMD check --install=check:miRLAB.install-out.txt --library=/Library/Frameworks/R.framework/Resources/library --no-vignettes --timings miRLAB_1.37.0.tar.gz StartedAt: 2025-02-03 20:45:20 -0500 (Mon, 03 Feb 2025) EndedAt: 2025-02-03 20:46:51 -0500 (Mon, 03 Feb 2025) EllapsedTime: 91.1 seconds RetCode: 0 Status: WARNINGS CheckDir: miRLAB.Rcheck Warnings: 1