Package: miRBaseConverter Version: 1.33.0 Command: /Library/Frameworks/R.framework/Resources/bin/R CMD check --install=check:miRBaseConverter.install-out.txt --library=/Library/Frameworks/R.framework/Resources/library --no-vignettes --timings miRBaseConverter_1.33.0.tar.gz StartedAt: 2025-05-21 21:41:49 -0400 (Wed, 21 May 2025) EndedAt: 2025-05-21 21:42:41 -0400 (Wed, 21 May 2025) EllapsedTime: 51.5 seconds RetCode: 0 Status: OK CheckDir: miRBaseConverter.Rcheck Warnings: 0