Package: miQC Version: 1.17.0 Command: /home/biocbuild/bbs-3.22-bioc/R/bin/R CMD INSTALL miQC StartedAt: 2025-10-19 15:25:53 -0400 (Sun, 19 Oct 2025) EndedAt: 2025-10-19 15:26:18 -0400 (Sun, 19 Oct 2025) EllapsedTime: 25.3 seconds RetCode: 0 Status: OK