Package: mgsa Version: 1.57.0 Command: /home/biocbuild/R/R/bin/R CMD build --keep-empty-dirs --no-resave-data mgsa StartedAt: 2025-10-10 02:05:56 -0000 (Fri, 10 Oct 2025) EndedAt: 2025-10-10 02:06:11 -0000 (Fri, 10 Oct 2025) EllapsedTime: 15.0 seconds RetCode: 0 Status: OK PackageFile: mgsa_1.57.0.tar.gz PackageFileSize: 388.2 KiB