Package: mgsa Version: 1.57.0 Command: /Library/Frameworks/R.framework/Resources/bin/R CMD INSTALL mgsa StartedAt: 2025-05-27 15:02:09 -0400 (Tue, 27 May 2025) EndedAt: 2025-05-27 15:02:15 -0400 (Tue, 27 May 2025) EllapsedTime: 6.2 seconds RetCode: 0 Status: OK